BEGIN:VCALENDAR
VERSION:2.0
PRODID:-//eventon.com NONSGML v1.0//EN
CALSCALE:GREGORIAN
METHOD:PUBLISH
BEGIN:VEVENT
UID:69eb62eeb4597
DTSTAMP:20260424T123246Z
DTSTART:20260424T160000Z
DTEND:20260424T215900Z
LOCATION:Torhaus Probstendamm\,  25335 Elmshorn
SUMMARY:Vernissage zur Kunstausstellung von Katharina Duwe - „ZERBRECHLICHE WELT“ im Torhaus Elmshorn
DESCRIPTION:Die dritte Ausstellung des Jahres vom Kunstverein Elmshorn steh
 t in den Startlöchern: Vom 24. April bis 05. Juni 2026 stellt die Hamburge
 r Künstlerin Katharina Duwe ihre Arbeiten im Rahmen der Ausstellung „ZER
 BRECHLICHE WELT“ im Torhaus Elmshorn aus. In ihren großformatigen Werken
  entwirft die bekannte Hamburger Künstlerin Katharina Duwe fiktive Stadtla
 ndschaften:[..]\nhttps://schleswig-holstein.sh/blog/veranstaltungen/verniss
 age-zur-kunstausstellung-von-katharina-duwe-zerbrechliche-welt-im-torhaus-e
 lmshorn/
URL:https://schleswig-holstein.sh/blog/veranstaltungen/vernissage-zur-kunstausstellung-von-katharina-duwe-zerbrechliche-welt-im-torhaus-elmshorn/
END:VEVENT
END:VCALENDAR