BEGIN:VCALENDAR
VERSION:2.0
PRODID:-//eventon.com NONSGML v1.0//EN
CALSCALE:GREGORIAN
METHOD:PUBLISH
BEGIN:VEVENT
UID:69eb5149965bc
DTSTAMP:20260424T111729Z
DTSTART:20260425T090000Z
DTEND:20260605T160000Z
LOCATION:Torhaus Probstendamm\,  25335 Elmshorn
SUMMARY:Kunstausstellung von Katharina Duwe "Zerbrechliche Welten" im Torhaus Elmshorn
DESCRIPTION:Die dritte Ausstellung des Jahres vom Kunstverein Elmshorn steh
 t in den Startlöchern: Vom 25. April bis 05. Juni 2026 stellt die Hamburge
 r Künstlerin Katharina Duwe ihre Arbeiten im Rahmen der Ausstellung „ZER
 BRECHLICHE WELT“ im Torhaus Elmshorn aus. In ihren großformatigen Werken
  entwirft die bekannte Hamburger Künstlerin Katharina Duwe fiktive Stadtla
 ndschaften:[..]\nhttps://schleswig-holstein.sh/blog/veranstaltungen/kunstau
 sstellung-von-katharina-duwe-zerbrechliche-welten-im-torhaus-elmshorn/
URL:https://schleswig-holstein.sh/blog/veranstaltungen/kunstausstellung-von-katharina-duwe-zerbrechliche-welten-im-torhaus-elmshorn/
END:VEVENT
END:VCALENDAR