BEGIN:VCALENDAR
VERSION:2.0
PRODID:-//eventon.com NONSGML v1.0//EN
CALSCALE:GREGORIAN
METHOD:PUBLISH
BEGIN:VEVENT
UID:69e6538285423
DTSTAMP:20260420T162538Z
DTSTART:20260415T163000Z
DTEND:20260415T190000Z
LOCATION:Galerie Brennwald Hardenbergstraße 20\,  24105 Kiel
SUMMARY:Zeichen und Wunder | Merete de Kruyf
DESCRIPTION:Merete de Kruyfs Arbeiten bewegen sich in Zwischenwelten – te
 chnisch gesehen zwischen Malerei und Fotografie\,  inhaltlich zwischen Real
 ität und Imagination. Die Künstlerin nutzt historische Fotografien nicht 
 in ihrer ursprünglichen Form\,  sondern als Abdruck\,  der in abstrakte Hi
 ntergründe integriert wird. Da diese fotografischen Anteile immer ihren ni
 cht auszulöschenden Kontext mitbringen\,  entstehen[..]\nhttps://schleswig
 -holstein.sh/blog/veranstaltungen/zeichen-und-wunder-merete-de-kruyf-2/
URL:https://schleswig-holstein.sh/blog/veranstaltungen/zeichen-und-wunder-merete-de-kruyf-2/
END:VEVENT
END:VCALENDAR