BEGIN:VCALENDAR
VERSION:2.0
PRODID:-//eventon.com NONSGML v1.0//EN
CALSCALE:GREGORIAN
METHOD:PUBLISH
BEGIN:VEVENT
UID:69eb927e608b6
DTSTAMP:20260424T155542Z
DTSTART:20260413T140000Z
DTEND:20260503T140000Z
LOCATION:Wunderkammer auf 5m² Ehem. W.D.R. Flaggenhäuschen Am Binnenhafen 25938 Wyk/Föhr Kontakt Andreas Petzold 0151 750 89 281 www.kunsteins.de/5m Am Binnenhafen\,  Wyk 25938\,  Deutschland\,  Wyk\,  Deutschland
SUMMARY:Schwein gehabt !
DESCRIPTION:Die Betrachtung und Einordnung des Schweines in der bildenden K
 unst sind historische Positionierungen und Verflechtungen notwendig\,  da d
 as Schwein in vielfältiger Form symbolisch eingeordnet und verknüpft ist.
  Entweder im bäuerlichen Alltag oder als allesfressende\,  mythologische B
 estie. Eine fast unübersichtliche Zuordnung zwischen Zivilisation und Wild
 nis. Zwischen Massentierhaltung und freilaufenden Kleingruppensozialisation
 . Zwischen[..]\nhttps://schleswig-holstein.sh/blog/veranstaltungen/schwein-
 gehabt/
URL:https://schleswig-holstein.sh/blog/veranstaltungen/schwein-gehabt/
END:VEVENT
END:VCALENDAR