BEGIN:VCALENDAR
VERSION:2.0
PRODID:-//eventon.com NONSGML v1.0//EN
CALSCALE:GREGORIAN
METHOD:PUBLISH
BEGIN:VEVENT
UID:69ecd8921ede7
DTSTAMP:20260425T150658Z
DTSTART:20260502T160000Z
DTEND:20260502T170000Z
LOCATION:Kunsttankstelle - Defacto Art e.V. Wallstrasse 3-5\,  23560 LÃ¼beck
SUMMARY:"Zug des Lebens" von Maike Remane - Vernissage
DESCRIPTION:Die Installation â€žZug des Lebensâ€œ ist in stÃ¤ndiger Bewegun
 g â€“ ohne Unterbrechung. FÃ¼r die LÃ¼becker KÃ¼nstlerin Maike Remane wird 
 der Zug zum Sinnbild ihrer Lebensreise. Einzelne Waggons mit zahlreichen Ab
 teilen tragen 100 Kunstwerke im Format DIN A5 â€“ Impressionen einer fortwÃ
 ¤hrenden Reise. Menschen steigen ein\,  begleiten ein StÃ¼ck des Weges[..]\
 nhttps://schleswig-holstein.sh/blog/veranstaltungen/zug-des-lebens-von-maik
 e-remane-vernissage/
URL:https://schleswig-holstein.sh/blog/veranstaltungen/zug-des-lebens-von-maike-remane-vernissage/
END:VEVENT
END:VCALENDAR