BEGIN:VCALENDAR
VERSION:2.0
PRODID:-//eventon.com NONSGML v1.0//EN
CALSCALE:GREGORIAN
METHOD:PUBLISH
BEGIN:VEVENT
UID:69ecc164c5937
DTSTAMP:20260425T132804Z
DTSTART:20260502
DTEND:20260503
LOCATION:Kunsttankstelle - Defacto Art e.V. Wallstrasse 3-5\,  23560 LÃ¼beck
SUMMARY:"Zug des Lebens" von Maike Remane
DESCRIPTION:Die Installation â€žZug des Lebensâ€œ ist in stÃ¤ndiger Bewegun
 g â€“ ohne Unterbrechung. FÃ¼r die LÃ¼becker KÃ¼nstlerin Maike Remane wird 
 der Zug zum Sinnbild ihrer Lebensreise. Einzelne Waggons mit zahlreichen Ab
 teilen tragen 100 Kunstwerke im Format DIN A5 â€“ Impressionen einer fortwÃ
 ¤hrenden Reise. Menschen steigen ein\,  begleiten ein StÃ¼ck des Weges[..]\
 nhttps://schleswig-holstein.sh/blog/veranstaltungen/zug-des-lebens-von-maik
 e-remane/
URL:https://schleswig-holstein.sh/blog/veranstaltungen/zug-des-lebens-von-maike-remane/
END:VEVENT
END:VCALENDAR