BEGIN:VCALENDAR
VERSION:2.0
PRODID:-//eventon.com NONSGML v1.0//EN
CALSCALE:GREGORIAN
METHOD:PUBLISH
BEGIN:VEVENT
UID:69e7b2cf4cebb
DTSTAMP:20260421T172431Z
DTSTART:20260508T173000Z
DTEND:20260508T190000Z
LOCATION:Kunsttankstelle - Defacto Art e.V. Wallstrasse 3-5\,  23560 Lübeck
SUMMARY:MHL 34. Brahms-Festival − Performance „One-Eyed-Starfish“
DESCRIPTION:Das 34. Brahms-Festival der Musikhochschule Lübeck (MHL) steht
  unter dem Motto „Freiheit“. Traditionell präsentieren sich die Studie
 renden der MHL an einem eigenen Konzertabend. Im Zentrum steht die konzerta
 nte Performance „One-Eyed-Starfish“. Drei Studierende treten unter den 
 anonymen Bezeichnungen „Red“ (Violine)\,  „Green“ (Drumset) und „
 Purple“ (E-Bass und Elektronik) auf und stellen ein[..]\nhttps://schleswi
 g-holstein.sh/blog/veranstaltungen/mhl-34-brahms-festival-%e2%88%92-perform
 ance-one-eyed-starfish/
URL:https://schleswig-holstein.sh/blog/veranstaltungen/mhl-34-brahms-festival-%e2%88%92-performance-one-eyed-starfish/
END:VEVENT
END:VCALENDAR