BEGIN:VCALENDAR
VERSION:2.0
PRODID:-//eventon.com NONSGML v1.0//EN
CALSCALE:GREGORIAN
METHOD:PUBLISH
BEGIN:VEVENT
UID:69ecd8db1d590
DTSTAMP:20260425T150811Z
DTSTART:20260509T080000Z
DTEND:20260509T103000Z
LOCATION:Kunsttankstelle - Defacto Art e.V. Wallstrasse 3-5\,  23560 Lübeck
SUMMARY:Workshops: Cyanotypie auf Papier und Stoff
DESCRIPTION:Cyanotypie ist ein fotografiisches Druckverfahren. Wir experime
 ntieren mit Gräsern\,  Federn\,  Papieren\,  Bordüren. Es entstehen Druck
 e in weiß auf blau in unterschiedlicher Farbintensität. Jeder Druck eine 
 Überraschung und Unikat. Bea Roggenbach zeigt in diesen Workshops die Viel
 falt der Cyanotypie. Anmeldung erforderlich unter: https://vhs.luebeck.de K
 osten: ab 39\, 50€ incl. Material\nhttps://schleswig-holstein.sh/blog/ver
 anstaltungen/workshops-cyanotypie-auf-papier-und-stoff/
URL:https://schleswig-holstein.sh/blog/veranstaltungen/workshops-cyanotypie-auf-papier-und-stoff/
END:VEVENT
END:VCALENDAR