BEGIN:VCALENDAR
VERSION:2.0
PRODID:-//eventon.com NONSGML v1.0//EN
CALSCALE:GREGORIAN
METHOD:PUBLISH
BEGIN:VEVENT
UID:69e7b2acd8200
DTSTAMP:20260421T172356Z
DTSTART:20260519T173000Z
DTEND:20260519T190000Z
LOCATION:Kunsttankstelle - Defacto Art e.V. Wallstrasse 3-5\,  23560 Lübeck
SUMMARY:Open Stage der MusikHochschule - improvisieren - mitmachen
DESCRIPTION:Eine offene Bühne für improvisierte Musik mit Dozierenden und
  Studierenden der MHL. Besucherinnen und Besucher sind eingeladen\,  mit ih
 ren Instrumenten in zufällig zusammengestellten Ensembles mitzumischen. Ei
 n Muss für alle Liebhaber der zeitgenössischen Musik und Improvisation. L
 eitung: Prof. Dr. Corinna Eikmeier und Prof. Marno Schulze.\nhttps://schles
 wig-holstein.sh/blog/veranstaltungen/open-stage-der-musikhochschule-improvi
 sieren-mitmachen-2/
URL:https://schleswig-holstein.sh/blog/veranstaltungen/open-stage-der-musikhochschule-improvisieren-mitmachen-2/
END:VEVENT
END:VCALENDAR