BEGIN:VCALENDAR
VERSION:2.0
PRODID:-//eventon.com NONSGML v1.0//EN
CALSCALE:GREGORIAN
METHOD:PUBLISH
BEGIN:VEVENT
UID:69eb8470f0143
DTSTAMP:20260424T145544Z
DTSTART:20260424T090000Z
DTEND:20260426T160000Z
LOCATION:Dunkersche Kate in Bosau 23715 Bosau\,  Bischof-Vicelin-Damm
SUMMARY:Bosau bei Plön\,  Bischof-Vicelin-Damm\,  KreativFusion - Leinwand trifft Amigurumi
DESCRIPTION:Die selbstständige Künstlerin Elena Franck präsentiert auch 
 in diesem Jahr wieder ihre Werke in den Räumen der Dunkerschen Kate in Bos
 au. Es erwartet Sie eine bunte Ausstellung an Acrylbildern aller Stilrichtu
 ngen sowie japanische Strick- und Häkelkunst.\nhttps://schleswig-holstein.
 sh/blog/veranstaltungen/bosau-bei-ploen-bischof-vicelin-damm-kreativfusion-
 leinwand-trifft-amigurumi/
URL:https://schleswig-holstein.sh/blog/veranstaltungen/bosau-bei-ploen-bischof-vicelin-damm-kreativfusion-leinwand-trifft-amigurumi/
END:VEVENT
END:VCALENDAR