BEGIN:VCALENDAR
VERSION:2.0
PRODID:-//eventon.com NONSGML v1.0//EN
CALSCALE:GREGORIAN
METHOD:PUBLISH
BEGIN:VEVENT
UID:69e6535535918
DTSTAMP:20260420T162453Z
DTSTART:20260503T150000Z
DTEND:20260503T170000Z
LOCATION:Werkgut Hauptstraße 2\,  24594 Meezen
SUMMARY:The Art of Vocal Jazz mit dem Julie Silvera Trio
DESCRIPTION:Mit dem Julie Silvera Trio erleben wir Vocal Jazz auf höchstem
  Niveau. Die in Jamaika geborene und in Miami aufgewachsene Sängerin Julie
  Silvera bringt Eleganz\,  Ausdruck und ihre tiefe Leidenschaft für Swing 
 auf die Bühne. Ihre Stimme verbindet Geschichtenerzählen mit Energie und 
 Leichtigkeit – eine Hommage an die große Tradition[..]\nhttps://schleswi
 g-holstein.sh/blog/veranstaltungen/the-art-of-vocal-jazz-mit-dem-julie-silv
 era-trio/
URL:https://schleswig-holstein.sh/blog/veranstaltungen/the-art-of-vocal-jazz-mit-dem-julie-silvera-trio/
END:VEVENT
END:VCALENDAR