BEGIN:VCALENDAR
VERSION:2.0
PRODID:-//eventon.com NONSGML v1.0//EN
CALSCALE:GREGORIAN
METHOD:PUBLISH
BEGIN:VEVENT
UID:69e789ce93f63
DTSTAMP:20260421T142934Z
DTSTART:20260726T150000Z
DTEND:20260726T180000Z
LOCATION:Romantik Hotel Friederikenhof Langjohrd 15 - 19\,  Lübeck 23560
SUMMARY:"Ein italienischer Abend" Konzert & White Dinner Party im Friederikenhof Lübeck
DESCRIPTION:Erleben Sie einen besonderen Sommerabend im stilvollen Ambiente
  des Romantik Hotel Friederikenhof in Lübeck: Ein Mediterraner Abend mit L
 ive-Konzert – Tenor Stefan Bäumler und Pianist Sebastian Hubert präsent
 ieren ihr Programm „Ein italienischer Abend“ mit Arien\,  Canzoni und i
 nternationalen Welthits in italienischer Fassung. Freuen Sie sich auf bekan
 nte Melodien wie „O[..]\nhttps://schleswig-holstein.sh/blog/veranstaltung
 en/ein-italienischer-abend-konzert-white-dinner-party-im-friederikenhof-lue
 beck/
URL:https://schleswig-holstein.sh/blog/veranstaltungen/ein-italienischer-abend-konzert-white-dinner-party-im-friederikenhof-luebeck/
END:VEVENT
END:VCALENDAR