BEGIN:VCALENDAR
VERSION:2.0
PRODID:-//eventon.com NONSGML v1.0//EN
CALSCALE:GREGORIAN
METHOD:PUBLISH
BEGIN:VEVENT
UID:69eb67da2a767
DTSTAMP:20260424T125346Z
DTSTART:20260420T140000Z
DTEND:20260423T140000Z
LOCATION:Galerie Tiinerbuud 33 in der Hummerbude PARADOX Hafenstraße 1009\,  27491 Helgoland
SUMMARY:Helgoland Galerie Tiinerbuud 33: Manfred Schlösser
DESCRIPTION:Unter seinem Motto „Bleistift\,  Papier und etwas Farbe – m
 ehr braucht es nicht“ wird der Bremer Künstler Manfred Schlösser seine 
 Zeichnungen\,  Drucke und Malerei vom 20. bis 23. April in der Galerie Tiin
 erbuud 33 auf Helgoland ausstellen. Da er diesmal nur sehr kurz auf der Ins
 el sein kann\,  empfiehlt es[..]\nhttps://schleswig-holstein.sh/blog/verans
 taltungen/helgoland-galerie-tiinerbuud-33-manfred-schloesser/
URL:https://schleswig-holstein.sh/blog/veranstaltungen/helgoland-galerie-tiinerbuud-33-manfred-schloesser/
END:VEVENT
END:VCALENDAR