BEGIN:VCALENDAR
VERSION:2.0
PRODID:-//eventon.com NONSGML v1.0//EN
CALSCALE:GREGORIAN
METHOD:PUBLISH
BEGIN:VEVENT
UID:69eb7d5d264c6
DTSTAMP:20260424T142533Z
DTSTART:20260423T140000Z
DTEND:20260423T215900Z
LOCATION:Eutiner Landesbibliothek Schlosspatz 4\,  23701 Eutin
SUMMARY:Eutin: „Von Enten\,  Mördern und Monstern“
DESCRIPTION:Der 23. April ist der Welttag des Buches &#8211; die Eutiner La
 ndesbibliothek widmet sich in diesem Jahr (auch) am Welttag des Buches schr
 eibenden Frauen\,  die in diesem Jahr „runde“ Jahrestage haben. So ist 
 Mary Shelley vor 175 Jahren gestorben und der Todestag von Agatha Christie 
 jährt sich zum 50. Mal[..]\nhttps://schleswig-holstein.sh/blog/veranstaltu
 ngen/eutin-von-enten-moerdern-und-monstern/
URL:https://schleswig-holstein.sh/blog/veranstaltungen/eutin-von-enten-moerdern-und-monstern/
END:VEVENT
END:VCALENDAR