BEGIN:VCALENDAR
VERSION:2.0
PRODID:-//eventon.com NONSGML v1.0//EN
CALSCALE:GREGORIAN
METHOD:PUBLISH
BEGIN:VEVENT
UID:69eb511733c8d
DTSTAMP:20260424T111639Z
DTSTART:20260429T170000Z
DTEND:20260429T215900Z
LOCATION:Eutiner Landesbibliothek Schlosspatz 4\,  23701 Eutin
SUMMARY:Eutin: „Heidelberg 1829. Christoph Friedrich Hellwags letztes Wiedersehen mit Ernestine Voß“
DESCRIPTION:In ihrem Vortrag erzählt Silke Gehring anhand von Material\,  
 das vor einiger Zeit den schon vorhandenen Hellwag-Nachlass in der Eutiner 
 Landesbibliothek ergänzte\,  über den Besuch des aus Württemberg stammen
 den Eutiner Arztes Christoph Friedrich Hellwag (1754-1835) im Jahre 1829. A
 nlässlich einer Versammlung deutscher Naturforscher und Ärzte besuchte er
  sowohl auf dem[..]\nhttps://schleswig-holstein.sh/blog/veranstaltungen/eut
 in-heidelberg-1829-christoph-friedrich-hellwags-letztes-wiedersehen-mit-ern
 estine-voss/
URL:https://schleswig-holstein.sh/blog/veranstaltungen/eutin-heidelberg-1829-christoph-friedrich-hellwags-letztes-wiedersehen-mit-ernestine-voss/
END:VEVENT
END:VCALENDAR