BEGIN:VCALENDAR
VERSION:2.0
PRODID:-//eventon.com NONSGML v1.0//EN
CALSCALE:GREGORIAN
METHOD:PUBLISH
BEGIN:VEVENT
UID:69eb4c320adac
DTSTAMP:20260424T105546Z
DTSTART:20260424T160000Z
DTEND:20260424T215900Z
LOCATION:Freya-Frahm-Haus Laboe Strandstr. 15\,  Laboe 24235\,  Deutschland
SUMMARY:Vernissage | Am Rande der Wellen
DESCRIPTION:Ein Haus am Meer. Drei Generationen von Frauen. Und eine Geschi
 chte\,  die bis heute nachwirkt. Im Freya-Frahm-Haus in Laboe ist vom 25.Ap
 ril bis zum 10. Mai die Ausstellung „Am Rande der Wellen &#8211; Ein Dial
 og der Generationen“ zu sehen. Ausgangspunkt ist das Freya-Frahm-Haus sel
 bst: ein Ort\,  der über drei Generationen[..]\nhttps://schleswig-holstein
 .sh/blog/veranstaltungen/vernissage-am-rande-der-wellen/
URL:https://schleswig-holstein.sh/blog/veranstaltungen/vernissage-am-rande-der-wellen/
END:VEVENT
END:VCALENDAR