BEGIN:VCALENDAR
VERSION:2.0
PRODID:-//eventon.com NONSGML v1.0//EN
CALSCALE:GREGORIAN
METHOD:PUBLISH
BEGIN:VEVENT
UID:69ecd8eb53d2e
DTSTAMP:20260425T150827Z
DTSTART:20260523T160000Z
DTEND:20260523T170000Z
LOCATION:Schuppen 6 An der Untertrave 47A\,  23552 Lübeck
SUMMARY:Rückenwind
DESCRIPTION:Sausen\,  Schnarren\,  Summen\,  Rasseln\,  Rattern\,  Brummen.
  Beim Radfahren ist es nie leise. Das Rauschen im Wind\,  auf der Straße u
 nd nun… auf der Bühne?! Die Komponistin\,  Saxofonistin und Fahrradspiel
 erin Jana De Troyer lädt mit ihrem Team ein zu „Rückenwind“\,  einem 
 szenischen Konzert\,  das sich ganz dem Fahrradfahren widmet. In „Rücken
 wind“[..]\nhttps://schleswig-holstein.sh/blog/veranstaltungen/rueckenwind
 -5/
URL:https://schleswig-holstein.sh/blog/veranstaltungen/rueckenwind-5/
END:VEVENT
END:VCALENDAR