BEGIN:VCALENDAR
VERSION:2.0
PRODID:-//eventon.com NONSGML v1.0//EN
CALSCALE:GREGORIAN
METHOD:PUBLISH
BEGIN:VEVENT
UID:69ecaabe6baa7
DTSTAMP:20260425T115126Z
DTSTART:20260502T180000Z
DTEND:20260502T190000Z
LOCATION:Zinnschmelze Maurienstraße 19\,  Hamburg\,  Hamburg 22305\,  Germany
SUMMARY:Rückenwind
DESCRIPTION:Sausen\,  Schnarren\,  Summen\,  Rasseln\,  Rattern\,  Brummen.
  Beim Radfahren ist es nie leise. Das Rauschen im Wind\,  auf der Straße u
 nd nun… auf der Bühne?! Die Komponistin\,  Saxofonistin und Fahrradspiel
 erin Jana De Troyer lädt mit ihrem Team ein zu „Rückenwind“\,  einem 
 szenischen Konzert\,  das sich ganz dem Fahrradfahren widmet. In „Rücken
 wind“[..]\nhttps://schleswig-holstein.sh/blog/veranstaltungen/rueckenwind
 -6/
URL:https://schleswig-holstein.sh/blog/veranstaltungen/rueckenwind-6/
END:VEVENT
END:VCALENDAR