BEGIN:VCALENDAR
VERSION:2.0
PRODID:-//eventon.com NONSGML v1.0//EN
CALSCALE:GREGORIAN
METHOD:PUBLISH
BEGIN:VEVENT
UID:69ecd8eb1bc2c
DTSTAMP:20260425T150827Z
DTSTART:20260509T173000Z
DTEND:20260509T183000Z
LOCATION:Kunstklinik Martinistraße 44a\,  Hamburg\,  Hamburg 20251\,  Deutschland
SUMMARY:Rückenwind
DESCRIPTION:Sausen\,  Schnarren\,  Summen\,  Rasseln\,  Rattern\,  Brummen.
  Beim Radfahren ist es nie leise. Das Rauschen im Wind\,  auf der Straße u
 nd nun… auf der Bühne?! Die Komponistin\,  Saxofonistin und Fahrradspiel
 erin Jana De Troyer lädt mit ihrem Team ein zu „Rückenwind“\,  einem 
 szenischen Konzert\,  das sich ganz dem Fahrradfahren widmet. In „Rücken
 wind“[..]\nhttps://schleswig-holstein.sh/blog/veranstaltungen/rueckenwind
 /
URL:https://schleswig-holstein.sh/blog/veranstaltungen/rueckenwind/
END:VEVENT
END:VCALENDAR