BEGIN:VCALENDAR
VERSION:2.0
PRODID:-//eventon.com NONSGML v1.0//EN
CALSCALE:GREGORIAN
METHOD:PUBLISH
BEGIN:VEVENT
UID:69ecc164c06f9
DTSTAMP:20260425T132804Z
DTSTART:20260510T170000Z
DTEND:20260510T180000Z
LOCATION:Honigfabrik Industriestraße 125-131\,  Hamburg\,  Hamburg 21107\,  Deutschland
SUMMARY:Rückenwind
DESCRIPTION:Sausen\,  Schnarren\,  Summen\,  Rasseln\,  Rattern\,  Brummen.
  Beim Radfahren ist es nie leise. Das Rauschen im Wind\,  auf der Straße u
 nd nun… auf der Bühne?! Die Komponistin\,  Saxofonistin und Fahrradspiel
 erin Jana De Troyer lädt mit ihrem Team ein zu „Rückenwind“\,  einem 
 szenischen Konzert\,  das sich ganz dem Fahrradfahren widmet. In „Rücken
 wind“[..]\nhttps://schleswig-holstein.sh/blog/veranstaltungen/rueckenwind
 -4/
URL:https://schleswig-holstein.sh/blog/veranstaltungen/rueckenwind-4/
END:VEVENT
END:VCALENDAR