BEGIN:VCALENDAR
VERSION:2.0
PRODID:-//eventon.com NONSGML v1.0//EN
CALSCALE:GREGORIAN
METHOD:PUBLISH
BEGIN:VEVENT
UID:69ecdf9c59d49
DTSTAMP:20260425T153700Z
DTSTART:20260530T123000Z
DTEND:20260530T133000Z
LOCATION:HausDrei Hospitalstr. 107\,  Hamburg\,  Hamburg 22767\,  Deutschland
SUMMARY:Rückenwind
DESCRIPTION:Sausen\,  Schnarren\,  Summen\,  Rasseln\,  Rattern\,  Brummen.
  Beim Radfahren ist es nie leise. Das Rauschen im Wind\,  auf der Straße u
 nd nun… auf der Bühne?! Die Komponistin\,  Saxofonistin und Fahrradspiel
 erin Jana De Troyer lädt mit ihrem Team ein zu „Rückenwind“\,  einem 
 szenischen Konzert\,  das sich ganz dem Fahrradfahren widmet. In „Rücken
 wind“[..]\nhttps://schleswig-holstein.sh/blog/veranstaltungen/rueckenwind
 -3/
URL:https://schleswig-holstein.sh/blog/veranstaltungen/rueckenwind-3/
END:VEVENT
END:VCALENDAR