BEGIN:VCALENDAR
VERSION:2.0
PRODID:-//eventon.com NONSGML v1.0//EN
CALSCALE:GREGORIAN
METHOD:PUBLISH
BEGIN:VEVENT
UID:69ecc168762fb
DTSTAMP:20260425T132808Z
DTSTART:20260613T140000Z
DTEND:20260613T150000Z
LOCATION:Stadtbücherei Lauenburg Alte Wache 8\,  Lauenburg/Elbe\,  Schleswig-Holstein 21481\,  Deutschland
SUMMARY:Rückenwind
DESCRIPTION:Sausen\,  Schnarren\,  Summen\,  Rasseln\,  Rattern\,  Brummen.
  Beim Radfahren ist es nie leise. Das Rauschen im Wind\,  auf der Straße u
 nd nun… auf der Bühne?! Die Komponistin\,  Saxofonistin und Fahrradspiel
 erin Jana De Troyer lädt mit ihrem Team ein zu „Rückenwind“\,  einem 
 szenischen Konzert\,  das sich ganz dem Fahrradfahren widmet. In „Rücken
 wind“[..]\nhttps://schleswig-holstein.sh/blog/veranstaltungen/rueckenwind
 -2/
URL:https://schleswig-holstein.sh/blog/veranstaltungen/rueckenwind-2/
END:VEVENT
END:VCALENDAR