BEGIN:VCALENDAR
VERSION:2.0
PRODID:-//eventon.com NONSGML v1.0//EN
CALSCALE:GREGORIAN
METHOD:PUBLISH
BEGIN:VEVENT
UID:69eb5bc7ca3de
DTSTAMP:20260424T120215Z
DTSTART:20260424T163000Z
DTEND:20260424T180000Z
LOCATION:KulturWerk Galerie Behrendt Esplanade 22 24534 Neumünster
SUMMARY:Galerie trifft Literatur
DESCRIPTION:Nadine Sorgenfrei aus Brokstedt liest ihre Kurzkrimis „Ein fe
 ines Leckerchen“ und „Entführung aus dem Salon“. Die erste ist eine 
 Geschichte über Tierliebe\,  warme Herzen und kalte Hände. Bei „Entfüh
 rung aus dem Salon&#8220; geht es um eine feine Dame\,  die um ihr Hab und 
 Gut fürchtet. Doch eine Frage stellt sich:[..]\nhttps://schleswig-holstein
 .sh/blog/veranstaltungen/galerie-trifft-literatur/
URL:https://schleswig-holstein.sh/blog/veranstaltungen/galerie-trifft-literatur/
END:VEVENT
END:VCALENDAR