BEGIN:VCALENDAR
VERSION:2.0
PRODID:-//eventon.com NONSGML v1.0//EN
CALSCALE:GREGORIAN
METHOD:PUBLISH
BEGIN:VEVENT
UID:69ecdf8103ca9
DTSTAMP:20260425T153633Z
DTSTART:20260531T123000Z
DTEND:20260719T150000Z
LOCATION:Palais Quasi non Possidentes Am Hafen 46\,  Glückstadt
SUMMARY:Querschnitt – Malerei und Skulptur von Rolf Rose
DESCRIPTION:Eine Werkübersicht des in Krempe\,  Kreis Steinburg lebenden K
 ünstlers Rolf Rose aus beinahe sechs Jahrzehnten eröffnet. Er und seine K
 unst sind weit überregional bekannt und in vielen namenhaften Kunstsammlun
 gen\,  wie z.B. der Hamburger Kunsthalle\,  vertreten. Roses Arbeitsprozess
  ist ein physischer Akt des Ordnens. Mit Rakeln und Spachteln strukturiert 
 der Künstler[..]\nhttps://schleswig-holstein.sh/blog/veranstaltungen/quers
 chnitt-malerei-und-skulptur-von-rolf-rose/
URL:https://schleswig-holstein.sh/blog/veranstaltungen/querschnitt-malerei-und-skulptur-von-rolf-rose/
END:VEVENT
END:VCALENDAR