BEGIN:VCALENDAR
VERSION:2.0
PRODID:-//eventon.com NONSGML v1.0//EN
CALSCALE:GREGORIAN
METHOD:PUBLISH
BEGIN:VEVENT
UID:69ecd89224f97
DTSTAMP:20260425T150658Z
DTSTART:20260625T173000Z
DTEND:20260625T193000Z
LOCATION:Musikschule Flensburg Marienkirchhof 2
SUMMARY:CHConcerts präsentiert "Conversations" mit Ulf Meyer & Ken Norris
DESCRIPTION:Ken Norris und Ulf Meyer trafen sich im Herbst 2019. Mit nur ei
 ner kurzen Probe spielten sie tags darauf ein fulminantes Konzert voller In
 timität\,  Lebendigkeit und Humor. Zwei Musiker mit ihrer Liebe für Jazz 
 und improvisierte Musik und mit ihrer langjährigen Erfahrung in unterschie
 dlichsten musikalischen Projekten jonglieren hier enorm spielfreudig[..]\nh
 ttps://schleswig-holstein.sh/blog/veranstaltungen/chconcerts-praesentiert-c
 onversations-mit-ulf-meyer-ken-norris/
URL:https://schleswig-holstein.sh/blog/veranstaltungen/chconcerts-praesentiert-conversations-mit-ulf-meyer-ken-norris/
END:VEVENT
END:VCALENDAR